{
 "currentVersion": 11.2,
 "cimVersion": "3.2.0",
 "serviceDescription": "Provides road centerline, facility site, and other labels for context when using imagery. This reference overlay was designed to be used with a true color imagery basemap.",
 "mapName": "Imagery Hybrid",
 "description": "Provides road centerline, facility site, and other labels for context when using imagery. This reference overlay was designed to be used with a true color imagery basemap.",
 "copyrightText": "Dubuque County GIS",
 "supportsDynamicLayers": false,
 "layers": [
  {
   "id": 0,
   "name": "1K",
   "parentLayerId": -1,
   "defaultVisibility": true,
   "subLayerIds": [
    1,
    2,
    3,
    4,
    5,
    6
   ],
   "minScale": 1950,
   "maxScale": 0,
   "type": "Group Layer",
   "supportsDynamicLegends": false
  },
  {
   "id": 1,
   "name": "FacilitySitePoint_1K",
   "parentLayerId": 0,
   "defaultVisibility": true,
   "subLayerIds": null,
   "minScale": 0,
   "maxScale": 0,
   "type": "Feature Layer",
   "geometryType": "esriGeometryPoint",
   "supportsDynamicLegends": true
  },
  {
   "id": 2,
   "name": "CountyBoundary_1K",
   "parentLayerId": 0,
   "defaultVisibility": true,
   "subLayerIds": null,
   "minScale": 0,
   "maxScale": 0,
   "type": "Feature Layer",
   "geometryType": "esriGeometryPolygon",
   "supportsDynamicLegends": true
  },
  {
   "id": 3,
   "name": "Road Centerlines_1K",
   "parentLayerId": 0,
   "defaultVisibility": true,
   "subLayerIds": null,
   "minScale": 0,
   "maxScale": 0,
   "type": "Feature Layer",
   "geometryType": "esriGeometryPolyline",
   "supportsDynamicLegends": true
  },
  {
   "id": 4,
   "name": "Railroad_1K",
   "parentLayerId": 0,
   "defaultVisibility": true,
   "subLayerIds": null,
   "minScale": 0,
   "maxScale": 0,
   "type": "Feature Layer",
   "geometryType": "esriGeometryPolyline",
   "supportsDynamicLegends": true
  },
  {
   "id": 5,
   "name": "Waterbodies_1K",
   "parentLayerId": 0,
   "defaultVisibility": true,
   "subLayerIds": null,
   "minScale": 0,
   "maxScale": 0,
   "type": "Feature Layer",
   "geometryType": "esriGeometryPolygon",
   "supportsDynamicLegends": true
  },
  {
   "id": 6,
   "name": "Waterlines_1K",
   "parentLayerId": 0,
   "defaultVisibility": true,
   "subLayerIds": null,
   "minScale": 0,
   "maxScale": 0,
   "type": "Feature Layer",
   "geometryType": "esriGeometryPolyline",
   "supportsDynamicLegends": true
  },
  {
   "id": 7,
   "name": "2K",
   "parentLayerId": -1,
   "defaultVisibility": true,
   "subLayerIds": [
    8,
    9,
    10,
    11,
    12,
    13
   ],
   "minScale": 2500,
   "maxScale": 1951,
   "type": "Group Layer",
   "supportsDynamicLegends": false
  },
  {
   "id": 8,
   "name": "FacilitySitePoint_2K",
   "parentLayerId": 7,
   "defaultVisibility": true,
   "subLayerIds": null,
   "minScale": 0,
   "maxScale": 0,
   "type": "Feature Layer",
   "geometryType": "esriGeometryPoint",
   "supportsDynamicLegends": true
  },
  {
   "id": 9,
   "name": "CountyBoundary_2K",
   "parentLayerId": 7,
   "defaultVisibility": true,
   "subLayerIds": null,
   "minScale": 0,
   "maxScale": 0,
   "type": "Feature Layer",
   "geometryType": "esriGeometryPolygon",
   "supportsDynamicLegends": true
  },
  {
   "id": 10,
   "name": "Road Centerlines_2K",
   "parentLayerId": 7,
   "defaultVisibility": true,
   "subLayerIds": null,
   "minScale": 0,
   "maxScale": 0,
   "type": "Feature Layer",
   "geometryType": "esriGeometryPolyline",
   "supportsDynamicLegends": true
  },
  {
   "id": 11,
   "name": "Railroad_2K",
   "parentLayerId": 7,
   "defaultVisibility": true,
   "subLayerIds": null,
   "minScale": 0,
   "maxScale": 0,
   "type": "Feature Layer",
   "geometryType": "esriGeometryPolyline",
   "supportsDynamicLegends": true
  },
  {
   "id": 12,
   "name": "Waterbodies_2K",
   "parentLayerId": 7,
   "defaultVisibility": true,
   "subLayerIds": null,
   "minScale": 0,
   "maxScale": 0,
   "type": "Feature Layer",
   "geometryType": "esriGeometryPolygon",
   "supportsDynamicLegends": true
  },
  {
   "id": 13,
   "name": "Waterlines_2K",
   "parentLayerId": 7,
   "defaultVisibility": true,
   "subLayerIds": null,
   "minScale": 0,
   "maxScale": 0,
   "type": "Feature Layer",
   "geometryType": "esriGeometryPolyline",
   "supportsDynamicLegends": true
  },
  {
   "id": 14,
   "name": "4K",
   "parentLayerId": -1,
   "defaultVisibility": true,
   "subLayerIds": [
    15,
    16,
    17,
    18,
    19,
    20
   ],
   "minScale": 5000,
   "maxScale": 2501,
   "type": "Group Layer",
   "supportsDynamicLegends": false
  },
  {
   "id": 15,
   "name": "FacilitySitePoint_4K",
   "parentLayerId": 14,
   "defaultVisibility": true,
   "subLayerIds": null,
   "minScale": 0,
   "maxScale": 0,
   "type": "Feature Layer",
   "geometryType": "esriGeometryPoint",
   "supportsDynamicLegends": true
  },
  {
   "id": 16,
   "name": "CountyBoundary_4K",
   "parentLayerId": 14,
   "defaultVisibility": true,
   "subLayerIds": null,
   "minScale": 0,
   "maxScale": 0,
   "type": "Feature Layer",
   "geometryType": "esriGeometryPolygon",
   "supportsDynamicLegends": true
  },
  {
   "id": 17,
   "name": "Road Centerlines_4K",
   "parentLayerId": 14,
   "defaultVisibility": true,
   "subLayerIds": null,
   "minScale": 0,
   "maxScale": 0,
   "type": "Feature Layer",
   "geometryType": "esriGeometryPolyline",
   "supportsDynamicLegends": true
  },
  {
   "id": 18,
   "name": "Railroad_4K",
   "parentLayerId": 14,
   "defaultVisibility": true,
   "subLayerIds": null,
   "minScale": 0,
   "maxScale": 0,
   "type": "Feature Layer",
   "geometryType": "esriGeometryPolyline",
   "supportsDynamicLegends": true
  },
  {
   "id": 19,
   "name": "Waterbodies_4K",
   "parentLayerId": 14,
   "defaultVisibility": true,
   "subLayerIds": null,
   "minScale": 0,
   "maxScale": 0,
   "type": "Feature Layer",
   "geometryType": "esriGeometryPolygon",
   "supportsDynamicLegends": true
  },
  {
   "id": 20,
   "name": "Waterlines_4K",
   "parentLayerId": 14,
   "defaultVisibility": true,
   "subLayerIds": null,
   "minScale": 0,
   "maxScale": 0,
   "type": "Feature Layer",
   "geometryType": "esriGeometryPolyline",
   "supportsDynamicLegends": true
  },
  {
   "id": 21,
   "name": "9K",
   "parentLayerId": -1,
   "defaultVisibility": true,
   "subLayerIds": [
    22,
    23,
    24,
    25,
    26,
    27
   ],
   "minScale": 15000,
   "maxScale": 5001,
   "type": "Group Layer",
   "supportsDynamicLegends": false
  },
  {
   "id": 22,
   "name": "FacilitySitePoint_9K",
   "parentLayerId": 21,
   "defaultVisibility": true,
   "subLayerIds": null,
   "minScale": 0,
   "maxScale": 0,
   "type": "Feature Layer",
   "geometryType": "esriGeometryPoint",
   "supportsDynamicLegends": true
  },
  {
   "id": 23,
   "name": "CountyBoundary_9K",
   "parentLayerId": 21,
   "defaultVisibility": true,
   "subLayerIds": null,
   "minScale": 0,
   "maxScale": 0,
   "type": "Feature Layer",
   "geometryType": "esriGeometryPolygon",
   "supportsDynamicLegends": true
  },
  {
   "id": 24,
   "name": "Road Centerlines_9K",
   "parentLayerId": 21,
   "defaultVisibility": true,
   "subLayerIds": null,
   "minScale": 0,
   "maxScale": 0,
   "type": "Feature Layer",
   "geometryType": "esriGeometryPolyline",
   "supportsDynamicLegends": true
  },
  {
   "id": 25,
   "name": "Railroad_9K",
   "parentLayerId": 21,
   "defaultVisibility": true,
   "subLayerIds": null,
   "minScale": 0,
   "maxScale": 0,
   "type": "Feature Layer",
   "geometryType": "esriGeometryPolyline",
   "supportsDynamicLegends": true
  },
  {
   "id": 26,
   "name": "Waterbodies_9K",
   "parentLayerId": 21,
   "defaultVisibility": true,
   "subLayerIds": null,
   "minScale": 0,
   "maxScale": 0,
   "type": "Feature Layer",
   "geometryType": "esriGeometryPolygon",
   "supportsDynamicLegends": true
  },
  {
   "id": 27,
   "name": "Waterlines_9K",
   "parentLayerId": 21,
   "defaultVisibility": true,
   "subLayerIds": null,
   "minScale": 0,
   "maxScale": 0,
   "type": "Feature Layer",
   "geometryType": "esriGeometryPolyline",
   "supportsDynamicLegends": true
  },
  {
   "id": 28,
   "name": "18K",
   "parentLayerId": -1,
   "defaultVisibility": true,
   "subLayerIds": [
    29,
    30,
    31,
    32,
    33,
    34
   ],
   "minScale": 25000,
   "maxScale": 15001,
   "type": "Group Layer",
   "supportsDynamicLegends": false
  },
  {
   "id": 29,
   "name": "FacilitySitePoint_18K",
   "parentLayerId": 28,
   "defaultVisibility": true,
   "subLayerIds": null,
   "minScale": 0,
   "maxScale": 0,
   "type": "Feature Layer",
   "geometryType": "esriGeometryPoint",
   "supportsDynamicLegends": true
  },
  {
   "id": 30,
   "name": "CountyBoundary_18K",
   "parentLayerId": 28,
   "defaultVisibility": true,
   "subLayerIds": null,
   "minScale": 0,
   "maxScale": 0,
   "type": "Feature Layer",
   "geometryType": "esriGeometryPolygon",
   "supportsDynamicLegends": true
  },
  {
   "id": 31,
   "name": "Road Centerlines_18K",
   "parentLayerId": 28,
   "defaultVisibility": true,
   "subLayerIds": null,
   "minScale": 0,
   "maxScale": 0,
   "type": "Feature Layer",
   "geometryType": "esriGeometryPolyline",
   "supportsDynamicLegends": true
  },
  {
   "id": 32,
   "name": "Railroad_18K",
   "parentLayerId": 28,
   "defaultVisibility": true,
   "subLayerIds": null,
   "minScale": 0,
   "maxScale": 0,
   "type": "Feature Layer",
   "geometryType": "esriGeometryPolyline",
   "supportsDynamicLegends": true
  },
  {
   "id": 33,
   "name": "Waterbodies_18K",
   "parentLayerId": 28,
   "defaultVisibility": true,
   "subLayerIds": null,
   "minScale": 0,
   "maxScale": 0,
   "type": "Feature Layer",
   "geometryType": "esriGeometryPolygon",
   "supportsDynamicLegends": true
  },
  {
   "id": 34,
   "name": "Waterlines_18K",
   "parentLayerId": 28,
   "defaultVisibility": true,
   "subLayerIds": null,
   "minScale": 0,
   "maxScale": 0,
   "type": "Feature Layer",
   "geometryType": "esriGeometryPolyline",
   "supportsDynamicLegends": true
  },
  {
   "id": 35,
   "name": "36K",
   "parentLayerId": -1,
   "defaultVisibility": true,
   "subLayerIds": [
    36,
    37,
    38,
    39,
    40,
    41,
    42
   ],
   "minScale": 50000,
   "maxScale": 25001,
   "type": "Group Layer",
   "supportsDynamicLegends": false
  },
  {
   "id": 36,
   "name": "CountyBoundary_36K",
   "parentLayerId": 35,
   "defaultVisibility": true,
   "subLayerIds": null,
   "minScale": 0,
   "maxScale": 0,
   "type": "Feature Layer",
   "geometryType": "esriGeometryPolygon",
   "supportsDynamicLegends": true
  },
  {
   "id": 37,
   "name": "FacilitySitePoint_36K",
   "parentLayerId": 35,
   "defaultVisibility": true,
   "subLayerIds": null,
   "minScale": 0,
   "maxScale": 0,
   "type": "Feature Layer",
   "geometryType": "esriGeometryPoint",
   "supportsDynamicLegends": true
  },
  {
   "id": 38,
   "name": "Road Centerlines_36K",
   "parentLayerId": 35,
   "defaultVisibility": true,
   "subLayerIds": null,
   "minScale": 0,
   "maxScale": 0,
   "type": "Feature Layer",
   "geometryType": "esriGeometryPolyline",
   "supportsDynamicLegends": true
  },
  {
   "id": 39,
   "name": "Railroad_36K",
   "parentLayerId": 35,
   "defaultVisibility": true,
   "subLayerIds": null,
   "minScale": 0,
   "maxScale": 0,
   "type": "Feature Layer",
   "geometryType": "esriGeometryPolyline",
   "supportsDynamicLegends": true
  },
  {
   "id": 40,
   "name": "Waterbodies_36K",
   "parentLayerId": 35,
   "defaultVisibility": true,
   "subLayerIds": null,
   "minScale": 0,
   "maxScale": 0,
   "type": "Feature Layer",
   "geometryType": "esriGeometryPolygon",
   "supportsDynamicLegends": true
  },
  {
   "id": 41,
   "name": "Waterlines_36K",
   "parentLayerId": 35,
   "defaultVisibility": true,
   "subLayerIds": null,
   "minScale": 0,
   "maxScale": 0,
   "type": "Feature Layer",
   "geometryType": "esriGeometryPolyline",
   "supportsDynamicLegends": true
  },
  {
   "id": 42,
   "name": "Municipal Boundaries_36K",
   "parentLayerId": 35,
   "defaultVisibility": true,
   "subLayerIds": null,
   "minScale": 0,
   "maxScale": 0,
   "type": "Feature Layer",
   "geometryType": "esriGeometryPolygon",
   "supportsDynamicLegends": true
  },
  {
   "id": 43,
   "name": "72K",
   "parentLayerId": -1,
   "defaultVisibility": true,
   "subLayerIds": [
    44,
    45,
    46,
    47,
    48,
    49
   ],
   "minScale": 100000,
   "maxScale": 50001,
   "type": "Group Layer",
   "supportsDynamicLegends": false
  },
  {
   "id": 44,
   "name": "CountyBoundary_72K",
   "parentLayerId": 43,
   "defaultVisibility": true,
   "subLayerIds": null,
   "minScale": 0,
   "maxScale": 0,
   "type": "Feature Layer",
   "geometryType": "esriGeometryPolygon",
   "supportsDynamicLegends": true
  },
  {
   "id": 45,
   "name": "FacilitySitePoint_72K",
   "parentLayerId": 43,
   "defaultVisibility": true,
   "subLayerIds": null,
   "minScale": 0,
   "maxScale": 0,
   "type": "Feature Layer",
   "geometryType": "esriGeometryPoint",
   "supportsDynamicLegends": true
  },
  {
   "id": 46,
   "name": "Road Centerlines_72K",
   "parentLayerId": 43,
   "defaultVisibility": true,
   "subLayerIds": null,
   "minScale": 0,
   "maxScale": 0,
   "type": "Feature Layer",
   "geometryType": "esriGeometryPolyline",
   "supportsDynamicLegends": true
  },
  {
   "id": 47,
   "name": "Railroad_72K",
   "parentLayerId": 43,
   "defaultVisibility": true,
   "subLayerIds": null,
   "minScale": 0,
   "maxScale": 0,
   "type": "Feature Layer",
   "geometryType": "esriGeometryPolyline",
   "supportsDynamicLegends": true
  },
  {
   "id": 48,
   "name": "Waterbodies_72K",
   "parentLayerId": 43,
   "defaultVisibility": true,
   "subLayerIds": null,
   "minScale": 0,
   "maxScale": 0,
   "type": "Feature Layer",
   "geometryType": "esriGeometryPolygon",
   "supportsDynamicLegends": true
  },
  {
   "id": 49,
   "name": "Waterlines_72K",
   "parentLayerId": 43,
   "defaultVisibility": true,
   "subLayerIds": null,
   "minScale": 0,
   "maxScale": 0,
   "type": "Feature Layer",
   "geometryType": "esriGeometryPolyline",
   "supportsDynamicLegends": true
  },
  {
   "id": 50,
   "name": "144K",
   "parentLayerId": -1,
   "defaultVisibility": true,
   "subLayerIds": [
    51,
    52,
    53
   ],
   "minScale": 0,
   "maxScale": 100001,
   "type": "Group Layer",
   "supportsDynamicLegends": false
  },
  {
   "id": 51,
   "name": "FacilitySitePoint_CityLabel_144K",
   "parentLayerId": 50,
   "defaultVisibility": true,
   "subLayerIds": null,
   "minScale": 0,
   "maxScale": 0,
   "type": "Feature Layer",
   "geometryType": "esriGeometryPolygon",
   "supportsDynamicLegends": true
  },
  {
   "id": 52,
   "name": "Road Centerlines_144K",
   "parentLayerId": 50,
   "defaultVisibility": true,
   "subLayerIds": null,
   "minScale": 0,
   "maxScale": 0,
   "type": "Feature Layer",
   "geometryType": "esriGeometryPolyline",
   "supportsDynamicLegends": true
  },
  {
   "id": 53,
   "name": "CountyBoundary_144K",
   "parentLayerId": 50,
   "defaultVisibility": true,
   "subLayerIds": null,
   "minScale": 0,
   "maxScale": 0,
   "type": "Feature Layer",
   "geometryType": "esriGeometryPolygon",
   "supportsDynamicLegends": true
  },
  {
   "id": 54,
   "name": "Low Flights 2024",
   "parentLayerId": -1,
   "defaultVisibility": true,
   "subLayerIds": null,
   "minScale": 0,
   "maxScale": 0,
   "type": "Raster Layer",
   "supportsDynamicLegends": true
  },
  {
   "id": 55,
   "name": "High Flights 2024",
   "parentLayerId": -1,
   "defaultVisibility": true,
   "subLayerIds": null,
   "minScale": 0,
   "maxScale": 0,
   "type": "Raster Layer",
   "supportsDynamicLegends": true
  }
 ],
 "tables": [],
 "spatialReference": {
  "wkid": 102100,
  "latestWkid": 3857,
  "xyTolerance": 0.001,
  "zTolerance": 0.001,
  "mTolerance": 0.001,
  "falseX": -20037700,
  "falseY": -30241100,
  "xyUnits": 10000,
  "falseZ": -100000,
  "zUnits": 10000,
  "falseM": -100000,
  "mUnits": 10000
 },
 "singleFusedMapCache": true,
 "tileInfo": {
  "rows": 256,
  "cols": 256,
  "dpi": 96,
  "format": "MIXED",
  "compressionQuality": 75,
  "origin": {
   "x": -20037700,
   "y": 30241100
  },
  "spatialReference": {
   "wkid": 102100,
   "latestWkid": 3857,
   "xyTolerance": 0.001,
   "zTolerance": 0.001,
   "mTolerance": 0.001,
   "falseX": -20037700,
   "falseY": -30241100,
   "xyUnits": 1.4892314192838538E8,
   "falseZ": -100000,
   "zUnits": 10000,
   "falseM": -100000,
   "mUnits": 10000
  },
  "lods": [
   {
    "level": 0,
    "resolution": 132.2919312505292,
    "scale": 500000
   },
   {
    "level": 1,
    "resolution": 66.1459656252646,
    "scale": 250000
   },
   {
    "level": 2,
    "resolution": 33.0729828126323,
    "scale": 125000
   },
   {
    "level": 3,
    "resolution": 16.933367200067735,
    "scale": 64000
   },
   {
    "level": 4,
    "resolution": 8.466683600033868,
    "scale": 32000
   },
   {
    "level": 5,
    "resolution": 4.233341800016934,
    "scale": 16000
   },
   {
    "level": 6,
    "resolution": 2.116670900008467,
    "scale": 8000
   },
   {
    "level": 7,
    "resolution": 1.0583354500042335,
    "scale": 4000
   },
   {
    "level": 8,
    "resolution": 0.5291677250021167,
    "scale": 2000
   },
   {
    "level": 9,
    "resolution": 0.26458386250105836,
    "scale": 1000
   },
   {
    "level": 10,
    "resolution": 0.13229193125052918,
    "scale": 500
   }
  ]
 },
 "storageInfo": {
  "storageFormat": "esriMapCacheStorageModeCompactV2",
  "packetSize": 128
 },
 "initialExtent": {
  "xmin": -1.0182839603290709E7,
  "ymin": 5199670.781517045,
  "xmax": -1.003840845548348E7,
  "ymax": 5265935.577135141,
  "spatialReference": {
   "wkid": 102100,
   "latestWkid": 3857,
   "xyTolerance": 0.001,
   "zTolerance": 0.001,
   "mTolerance": 0.001,
   "falseX": -20037700,
   "falseY": -30241100,
   "xyUnits": 10000,
   "falseZ": -100000,
   "zUnits": 10000,
   "falseM": -100000,
   "mUnits": 10000
  }
 },
 "fullExtent": {
  "xmin": -1.0160646278572662E7,
  "ymin": 5200285.055404582,
  "xmax": -1.0060601780201528E7,
  "ymax": 5265321.303247604,
  "spatialReference": {
   "wkid": 102100,
   "latestWkid": 3857,
   "xyTolerance": 0.001,
   "zTolerance": 0.001,
   "mTolerance": 0.001,
   "falseX": -20037700,
   "falseY": -30241100,
   "xyUnits": 10000,
   "falseZ": -100000,
   "zUnits": 10000,
   "falseM": -100000,
   "mUnits": 10000
  }
 },
 "datesInUnknownTimezone": false,
 "minScale": 500000,
 "maxScale": 500,
 "minLOD": 0,
 "maxLOD": 10,
 "units": "esriMeters",
 "supportedImageFormatTypes": "PNG32,PNG24,PNG,JPG,DIB,TIFF,EMF,PS,PDF,GIF,SVG,SVGZ,BMP",
 "documentInfo": {
  "Title": "Imagery Refererence Overlay",
  "Author": "",
  "Comments": "Provides road centerline, facility site, and other labels for context when using imagery. This reference overlay was designed to be used with a true color imagery basemap.",
  "Subject": "The Imagery Reference Overlay is a reference overlay that provides road centerline, facility site, and other labels for context when using imagery.",
  "Category": "",
  "Version": "3.2.0",
  "AntialiasingMode": "Fast",
  "TextAntialiasingMode": "Force",
  "Keywords": "Hybrid Basemap,Imagery Overlay,Reference Data"
 },
 "supportsQueryDomains": true,
 "capabilities": "Map",
 "supportedQueryFormats": "JSON, geoJSON, PBF",
 "hasVersionedData": true,
 "exportTilesAllowed": false,
 "referenceScale": 0.0,
 "datumTransformations": [
  {
   "geoTransforms": [
    {
     "wkid": 108001,
     "latestWkid": 1241,
     "transformForward": true,
     "name": "NAD_1927_To_NAD_1983_NADCON"
    }
   ]
  },
  {
   "geoTransforms": [
    {
     "wkid": 108001,
     "latestWkid": 1241,
     "transformForward": false,
     "name": "NAD_1927_To_NAD_1983_NADCON"
    }
   ]
  }
 ],
 "supportsDatumTransformation": true,
 "floorAwareMapProperties": {
  "defaultFloorFilterSettings": {
   "isEnabled": false
  }
 },
 "archivingInfo": {
  "supportsHistoricMoment": false
 },
 "supportsClipping": true,
 "supportsSpatialFilter": true,
 "supportsTimeRelation": true,
 "supportsQueryDataElements": true,
 "mapUnits": {
  "uwkid": 9001
 },
 "maxRecordCount": 2000,
 "maxImageHeight": 4096,
 "maxImageWidth": 4096,
 "supportedExtensions": "",
 "resampling": false,
 "serviceItemId": "0afdff21ffa54205a5255487d6d810c9"
}
