View In:
ArcGIS JavaScript
ArcGIS Online Map Viewer
ArcGIS Earth
ArcGIS Pro
Service Description: Provides context for public safety data (incidents, events, resources. etc.). It includes structures, roads, major facilities and landmarks, water features, parcels, addresses and boundaries. The basemap uses design elements found in the General Purpose basemap but emphasizes critical facilities found in a community. It provides context for multiple workflows, such as editing data or producing web maps.
Map Name: Public Safety
Legend
All Layers and Tables
Dynamic Legend
Dynamic All Layers
Layers:
Description: Provides context for public safety data (incidents, events, resources. etc.). It includes structures, roads, major facilities and landmarks, water features, parcels, addresses and boundaries. The basemap uses design elements found in the General Purpose basemap but emphasizes critical facilities found in a community. It provides context for multiple workflows, such as editing data or producing web maps.
Service Item Id: 5bcfa9579b784ac1bb0511321bed84f1
Copyright Text: Esri., Inc., Dubuque County, IA
Spatial Reference:
102100
(3857)
Single Fused Map Cache: true
Tile Info:
- Height: 256
- Width: 256
- DPI: 96
-
Levels of Detail: 24
-
Level ID: 1
[ Start Tile, End Tile ]
- Resolution: 78271.5169639999
- Scale: 2.95828763795777E8
-
Level ID: 2
[ Start Tile, End Tile ]
- Resolution: 39135.7584820001
- Scale: 1.47914381897889E8
-
Level ID: 3
[ Start Tile, End Tile ]
- Resolution: 19567.8792409999
- Scale: 7.3957190948944E7
-
Level ID: 4
[ Start Tile, End Tile ]
- Resolution: 9783.93962049996
- Scale: 3.6978595474472E7
-
Level ID: 5
[ Start Tile, End Tile ]
- Resolution: 4891.96981024998
- Scale: 1.8489297737236E7
- Format: Mixed
- Compression Quality: 75.0
- Origin: X: -2.0037508342787E7
Y: 2.0037508342787E7
- Spatial Reference: 102100
(3857)
Storage Info:
- Storage Format: esriMapCacheStorageModeCompactV2
- Packet Size: 128
Initial Extent:
XMin: -1.0178776568808384E7
YMin: 5201753.152330484
XMax: -1.0037393448220693E7
YMax: 5266619.517597457
Spatial Reference: 102100
Full Extent:
XMin: -1.0167126476685923E7
YMin: 5201602.824716887
XMax: -1.0049043540343152E7
YMax: 5266769.845211054
Spatial Reference: 102100
Units: esriMeters
Supported Image Format Types: PNG32,PNG24,PNG,JPG,DIB,TIFF,EMF,PS,PDF,GIF,SVG,SVGZ,BMP
Document Info:
Title: Layers
Author:
Comments: Provides context for public safety data (incidents, events, resources. etc.). It includes structures, roads, major facilities and landmarks, water features, parcels, addresses and boundaries. The basemap uses design elements found in the General Purpose basemap but emphasizes critical facilities found in a community. It provides context for multiple workflows, such as editing data or producing web maps.
Subject: The Public Safety basemap provides context for public safety workflows.
Category:
Keywords: Public Safety,Basemap,Critical Facilities
AntialiasingMode: Fast
TextAntialiasingMode: Force
Supports Dynamic Layers: true
Resampling: false
MaxRecordCount: 2000
MaxImageHeight: 4096
MaxImageWidth: 4096
Supported Query Formats: JSON, geoJSON, PBF
Supports Query Data Elements: true
Min Scale: 577790.554289
Max Scale: 564.248588
Min LOD: 10
Max LOD: 20
Supports Datum Transformation: true
Child Resources:
Info
Dynamic Layer
Supported Operations:
Export Map
Identify
QueryLegends
QueryDomains
Find
Return Updates